BEGIN:VCALENDAR
VERSION:2.0
PRODID:-//Copper Mountain College - ECPv6.15.20//NONSGML v1.0//EN
CALSCALE:GREGORIAN
METHOD:PUBLISH
X-WR-CALNAME:Copper Mountain College
X-ORIGINAL-URL:https://www.cmccd.edu
X-WR-CALDESC:Events for Copper Mountain College
REFRESH-INTERVAL;VALUE=DURATION:PT1H
X-Robots-Tag:noindex
X-PUBLISHED-TTL:PT1H
BEGIN:VTIMEZONE
TZID:America/Los_Angeles
BEGIN:DAYLIGHT
TZOFFSETFROM:-0800
TZOFFSETTO:-0700
TZNAME:PDT
DTSTART:20240310T100000
END:DAYLIGHT
BEGIN:STANDARD
TZOFFSETFROM:-0700
TZOFFSETTO:-0800
TZNAME:PST
DTSTART:20241103T090000
END:STANDARD
BEGIN:DAYLIGHT
TZOFFSETFROM:-0800
TZOFFSETTO:-0700
TZNAME:PDT
DTSTART:20250309T100000
END:DAYLIGHT
BEGIN:STANDARD
TZOFFSETFROM:-0700
TZOFFSETTO:-0800
TZNAME:PST
DTSTART:20251102T090000
END:STANDARD
BEGIN:DAYLIGHT
TZOFFSETFROM:-0800
TZOFFSETTO:-0700
TZNAME:PDT
DTSTART:20260308T100000
END:DAYLIGHT
BEGIN:STANDARD
TZOFFSETFROM:-0700
TZOFFSETTO:-0800
TZNAME:PST
DTSTART:20261101T090000
END:STANDARD
END:VTIMEZONE
BEGIN:VEVENT
DTSTART;TZID=America/Los_Angeles:20250422T130000
DTEND;TZID=America/Los_Angeles:20250422T153000
DTSTAMP:20260422T072939
CREATED:20250416T180308Z
LAST-MODIFIED:20250416T180309Z
UID:10000739-1745326800-1745335800@www.cmccd.edu
SUMMARY:Earth Day Art Workshop | 1-3:30 PM
DESCRIPTION:Unleash your creativity with Professor Chloe Allred!  Join us for an Earth Day art workshop focused on upcycling art forms and creating works inspired by the natural world. Collage along with the printmaking technique of collagraph will be featured. This workshop will challenge your ideas of what is “trash” with upcycling art methods!
URL:https://www.cmccd.edu/event/earth-day-art-workshop-1-330-pm/
LOCATION:Student Activities Center
CATEGORIES:Student Activities,Student Life
ATTACH;FMTTYPE=image/png:https://www.cmccd.edu/wp-content/uploads/2025/04/04-22-25-Earth-Day-Art-Workshop-.png
END:VEVENT
END:VCALENDAR