BEGIN:VCALENDAR
VERSION:2.0
PRODID:-//Copper Mountain College - ECPv6.15.20//NONSGML v1.0//EN
CALSCALE:GREGORIAN
METHOD:PUBLISH
X-WR-CALNAME:Copper Mountain College
X-ORIGINAL-URL:https://www.cmccd.edu
X-WR-CALDESC:Events for Copper Mountain College
REFRESH-INTERVAL;VALUE=DURATION:PT1H
X-Robots-Tag:noindex
X-PUBLISHED-TTL:PT1H
BEGIN:VTIMEZONE
TZID:America/Los_Angeles
BEGIN:DAYLIGHT
TZOFFSETFROM:-0800
TZOFFSETTO:-0700
TZNAME:PDT
DTSTART:20240310T100000
END:DAYLIGHT
BEGIN:STANDARD
TZOFFSETFROM:-0700
TZOFFSETTO:-0800
TZNAME:PST
DTSTART:20241103T090000
END:STANDARD
BEGIN:DAYLIGHT
TZOFFSETFROM:-0800
TZOFFSETTO:-0700
TZNAME:PDT
DTSTART:20250309T100000
END:DAYLIGHT
BEGIN:STANDARD
TZOFFSETFROM:-0700
TZOFFSETTO:-0800
TZNAME:PST
DTSTART:20251102T090000
END:STANDARD
BEGIN:DAYLIGHT
TZOFFSETFROM:-0800
TZOFFSETTO:-0700
TZNAME:PDT
DTSTART:20260308T100000
END:DAYLIGHT
BEGIN:STANDARD
TZOFFSETFROM:-0700
TZOFFSETTO:-0800
TZNAME:PST
DTSTART:20261101T090000
END:STANDARD
END:VTIMEZONE
BEGIN:VEVENT
DTSTART;TZID=America/Los_Angeles:20250226T110000
DTEND;TZID=America/Los_Angeles:20250226T130000
DTSTAMP:20260421T041443
CREATED:20250212T194651Z
LAST-MODIFIED:20250212T194651Z
UID:10000677-1740567600-1740574800@www.cmccd.edu
SUMMARY:Collaborative Careers Celebration
DESCRIPTION:
URL:https://www.cmccd.edu/event/collaborative-careers-celebration/
LOCATION:CA
CATEGORIES:CMC Career Services
ATTACH;FMTTYPE=image/png:https://www.cmccd.edu/wp-content/uploads/2025/02/02-26-25-Collaborative-Careers-Local-Dreams-Actualized.png
END:VEVENT
END:VCALENDAR