BEGIN:VCALENDAR
VERSION:2.0
PRODID:-//Copper Mountain College - ECPv6.15.20//NONSGML v1.0//EN
CALSCALE:GREGORIAN
METHOD:PUBLISH
X-ORIGINAL-URL:https://www.cmccd.edu
X-WR-CALDESC:Events for Copper Mountain College
REFRESH-INTERVAL;VALUE=DURATION:PT1H
X-Robots-Tag:noindex
X-PUBLISHED-TTL:PT1H
BEGIN:VTIMEZONE
TZID:America/Los_Angeles
BEGIN:DAYLIGHT
TZOFFSETFROM:-0800
TZOFFSETTO:-0700
TZNAME:PDT
DTSTART:20240310T100000
END:DAYLIGHT
BEGIN:STANDARD
TZOFFSETFROM:-0700
TZOFFSETTO:-0800
TZNAME:PST
DTSTART:20241103T090000
END:STANDARD
BEGIN:DAYLIGHT
TZOFFSETFROM:-0800
TZOFFSETTO:-0700
TZNAME:PDT
DTSTART:20250309T100000
END:DAYLIGHT
BEGIN:STANDARD
TZOFFSETFROM:-0700
TZOFFSETTO:-0800
TZNAME:PST
DTSTART:20251102T090000
END:STANDARD
BEGIN:DAYLIGHT
TZOFFSETFROM:-0800
TZOFFSETTO:-0700
TZNAME:PDT
DTSTART:20260308T100000
END:DAYLIGHT
BEGIN:STANDARD
TZOFFSETFROM:-0700
TZOFFSETTO:-0800
TZNAME:PST
DTSTART:20261101T090000
END:STANDARD
END:VTIMEZONE
BEGIN:VEVENT
DTSTART;TZID=America/Los_Angeles:20250723T080000
DTEND;TZID=America/Los_Angeles:20250822T170000
DTSTAMP:20260422T133440
CREATED:20250723T154610Z
LAST-MODIFIED:20250723T154610Z
UID:10000828-1753257600-1755882000@www.cmccd.edu
SUMMARY:Summer 2025 Book Study: Matriarch by Tina Knowles
DESCRIPTION:The campus community is invited to take part in a month-long book study\nFree eBooks\, audio books\, and physical books are available\nThere will be a Zoom book talk on August 22 at 1 PM\nIf you have questions\, please email Chelsi at cchastain@cmccd.edu
URL:https://www.cmccd.edu/event/summer-2025-book-study-matriarch-by-tina-knowles/
LOCATION:CA
CATEGORIES:Student Activities,Student Life
ATTACH;FMTTYPE=image/png:https://www.cmccd.edu/wp-content/uploads/2025/07/Summer-2025-Book-Study.png
END:VEVENT
BEGIN:VEVENT
DTSTART;TZID=America/Los_Angeles:20250819T080000
DTEND;TZID=America/Los_Angeles:20250819T170000
DTSTAMP:20260422T133440
CREATED:20250819T184006Z
LAST-MODIFIED:20250818T175733Z
UID:10001365-1755590400-1755622800@www.cmccd.edu
SUMMARY:Back to School Bingo
DESCRIPTION:Celebrate the first week of class with prizes\, fun\, and a friendly game of Bingo! Snacks provided.
URL:https://www.cmccd.edu/event/back-to-school-bingo/
LOCATION:CA
CATEGORIES:Student Life
ATTACH;FMTTYPE=image/png:https://www.cmccd.edu/wp-content/uploads/2025/08/08-19-25-Back-to-School-Bingo.png
END:VEVENT
BEGIN:VEVENT
DTSTART;TZID=America/Los_Angeles:20250819T100000
DTEND;TZID=America/Los_Angeles:20250819T230000
DTSTAMP:20260422T133440
CREATED:20250723T164903Z
LAST-MODIFIED:20250723T170219Z
UID:10000835-1755597600-1755644400@www.cmccd.edu
SUMMARY:CMC Campus Tours
DESCRIPTION:Guided campus tours\nTuesday & Thursday at 10 AM (Except August 7th)\nPlease RSVP using this link: https://bit.ly/cmctours\nPrivate tours available upon request\nAll tours meet in front of the Student Services building in the 300 Quad
URL:https://www.cmccd.edu/event/cmc-campus-tours/2025-08-19/
LOCATION:300 Quad\, 6162 Rotary Way\, Joshua Tree\, CA 92252\, Joshua Tree\, CA\, 92252\, United States
ATTACH;FMTTYPE=image/png:https://www.cmccd.edu/wp-content/uploads/2025/07/Campus-Tours-Summer-Fall-2025.png
END:VEVENT
BEGIN:VEVENT
DTSTART;TZID=America/Los_Angeles:20250819T110000
DTEND;TZID=America/Los_Angeles:20250819T120000
DTSTAMP:20260422T133440
CREATED:20250813T184203Z
LAST-MODIFIED:20250813T184204Z
UID:10001366-1755601200-1755604800@www.cmccd.edu
SUMMARY:Lotería and Lunch
DESCRIPTION:Kick off the semester with a fun game of Lotería and a provided lunch hosted by Student Life and the Latinx Association.
URL:https://www.cmccd.edu/event/loteria-and-lunch/
LOCATION:CA
ATTACH;FMTTYPE=image/png:https://www.cmccd.edu/wp-content/uploads/2025/08/08-19-25-Loteria-and-Lunch.png
END:VEVENT
BEGIN:VEVENT
DTSTART;TZID=America/Los_Angeles:20250819T140000
DTEND;TZID=America/Los_Angeles:20250819T150000
DTSTAMP:20260422T133440
CREATED:20250818T171556Z
LAST-MODIFIED:20250818T172231Z
UID:10001369-1755612000-1755615600@www.cmccd.edu
SUMMARY:Back to School Bingo
DESCRIPTION:
URL:https://www.cmccd.edu/event/back-to-school-bingo-2/
LOCATION:Christine Proudfoot Student Activity Center\, 6162 Rotary Way\, Joshua Tree\, CA 92252\, Joshua Tree\, CA\, 92252\, United States
ATTACH;FMTTYPE=image/png:https://www.cmccd.edu/wp-content/uploads/2025/08/08-19-25-Back-to-School-Bingo-FA25-1.0.png
END:VEVENT
END:VCALENDAR