BEGIN:VCALENDAR
VERSION:2.0
PRODID:-//Copper Mountain College - ECPv6.15.20//NONSGML v1.0//EN
CALSCALE:GREGORIAN
METHOD:PUBLISH
X-WR-CALNAME:Copper Mountain College
X-ORIGINAL-URL:https://www.cmccd.edu
X-WR-CALDESC:Events for Copper Mountain College
REFRESH-INTERVAL;VALUE=DURATION:PT1H
X-Robots-Tag:noindex
X-PUBLISHED-TTL:PT1H
BEGIN:VTIMEZONE
TZID:America/Los_Angeles
BEGIN:DAYLIGHT
TZOFFSETFROM:-0800
TZOFFSETTO:-0700
TZNAME:PDT
DTSTART:20240310T100000
END:DAYLIGHT
BEGIN:STANDARD
TZOFFSETFROM:-0700
TZOFFSETTO:-0800
TZNAME:PST
DTSTART:20241103T090000
END:STANDARD
BEGIN:DAYLIGHT
TZOFFSETFROM:-0800
TZOFFSETTO:-0700
TZNAME:PDT
DTSTART:20250309T100000
END:DAYLIGHT
BEGIN:STANDARD
TZOFFSETFROM:-0700
TZOFFSETTO:-0800
TZNAME:PST
DTSTART:20251102T090000
END:STANDARD
BEGIN:DAYLIGHT
TZOFFSETFROM:-0800
TZOFFSETTO:-0700
TZNAME:PDT
DTSTART:20260308T100000
END:DAYLIGHT
BEGIN:STANDARD
TZOFFSETFROM:-0700
TZOFFSETTO:-0800
TZNAME:PST
DTSTART:20261101T090000
END:STANDARD
END:VTIMEZONE
BEGIN:VEVENT
DTSTART;TZID=America/Los_Angeles:20250723T080000
DTEND;TZID=America/Los_Angeles:20250822T170000
DTSTAMP:20260422T133344
CREATED:20250723T154610Z
LAST-MODIFIED:20250723T154610Z
UID:10000828-1753257600-1755882000@www.cmccd.edu
SUMMARY:Summer 2025 Book Study: Matriarch by Tina Knowles
DESCRIPTION:The campus community is invited to take part in a month-long book study\nFree eBooks\, audio books\, and physical books are available\nThere will be a Zoom book talk on August 22 at 1 PM\nIf you have questions\, please email Chelsi at cchastain@cmccd.edu
URL:https://www.cmccd.edu/event/summer-2025-book-study-matriarch-by-tina-knowles/
LOCATION:CA
CATEGORIES:Student Activities,Student Life
ATTACH;FMTTYPE=image/png:https://www.cmccd.edu/wp-content/uploads/2025/07/Summer-2025-Book-Study.png
END:VEVENT
BEGIN:VEVENT
DTSTART;TZID=America/Los_Angeles:20250814T100000
DTEND;TZID=America/Los_Angeles:20250814T230000
DTSTAMP:20260422T133344
CREATED:20250723T164903Z
LAST-MODIFIED:20250723T170219Z
UID:10000834-1755165600-1755212400@www.cmccd.edu
SUMMARY:CMC Campus Tours
DESCRIPTION:Guided campus tours\nTuesday & Thursday at 10 AM (Except August 7th)\nPlease RSVP using this link: https://bit.ly/cmctours\nPrivate tours available upon request\nAll tours meet in front of the Student Services building in the 300 Quad
URL:https://www.cmccd.edu/event/cmc-campus-tours/2025-08-14/
LOCATION:300 Quad\, 6162 Rotary Way\, Joshua Tree\, CA 92252\, Joshua Tree\, CA\, 92252\, United States
ATTACH;FMTTYPE=image/png:https://www.cmccd.edu/wp-content/uploads/2025/07/Campus-Tours-Summer-Fall-2025.png
END:VEVENT
BEGIN:VEVENT
DTSTART;TZID=America/Los_Angeles:20250814T150000
DTEND;TZID=America/Los_Angeles:20250814T170000
DTSTAMP:20260422T133344
CREATED:20250320T202408Z
LAST-MODIFIED:20250320T222509Z
UID:10000701-1755183600-1755190800@www.cmccd.edu
SUMMARY:Board of Trustees Regular Meeting | 3:00 P.M.
DESCRIPTION:Board Meetings: \n\nare held in person.\nare in the Bell Center Community Room – North Entrance\, unless otherwise noted.\nwill begin at 3:00 p.m. unless otherwise noted.\n\nThe agenda will be posted on the CMC Community page 72 hours before each meeting. \n  \nAs of September 2025\, we have started using Diligent Community for the Board of Trustees agendas and minutes. \nIf you have any questions\, please contact Ariana Muñiz at amuniz@cmccd.edu or (760) 366-3791\, ext. 5441.
URL:https://www.cmccd.edu/event/11137-3/2025-08-14/
LOCATION:Bell Center Community Room (North Entrance)\, 6162 Rotary Way\, Joshua Tree\, CA\, 92284
CATEGORIES:CMC Office of the President,CMC Board of Trustees
ATTACH;FMTTYPE=image/png:https://www.cmccd.edu/wp-content/uploads/2024/03/CMC-seal-high-res-JT-copy.png
ORGANIZER;CN="Office of the President":MAILTO:amuniz@cmccd.edu
END:VEVENT
END:VCALENDAR